BEGIN:VCALENDAR
VERSION:2.0
PRODID:-//Acoustic Café - ECPv6.15.18//NONSGML v1.0//EN
CALSCALE:GREGORIAN
METHOD:PUBLISH
X-WR-CALNAME:Acoustic Café
X-ORIGINAL-URL:https://www.theacoustic.com
X-WR-CALDESC:Events for Acoustic Café
REFRESH-INTERVAL;VALUE=DURATION:PT1H
X-Robots-Tag:noindex
X-PUBLISHED-TTL:PT1H
BEGIN:VTIMEZONE
TZID:America/Chicago
BEGIN:DAYLIGHT
TZOFFSETFROM:-0600
TZOFFSETTO:-0500
TZNAME:CDT
DTSTART:20250309T080000
END:DAYLIGHT
BEGIN:STANDARD
TZOFFSETFROM:-0500
TZOFFSETTO:-0600
TZNAME:CST
DTSTART:20251102T070000
END:STANDARD
BEGIN:DAYLIGHT
TZOFFSETFROM:-0600
TZOFFSETTO:-0500
TZNAME:CDT
DTSTART:20260308T080000
END:DAYLIGHT
BEGIN:STANDARD
TZOFFSETFROM:-0500
TZOFFSETTO:-0600
TZNAME:CST
DTSTART:20261101T070000
END:STANDARD
BEGIN:DAYLIGHT
TZOFFSETFROM:-0600
TZOFFSETTO:-0500
TZNAME:CDT
DTSTART:20270314T080000
END:DAYLIGHT
BEGIN:STANDARD
TZOFFSETFROM:-0500
TZOFFSETTO:-0600
TZNAME:CST
DTSTART:20271107T070000
END:STANDARD
END:VTIMEZONE
BEGIN:VEVENT
DTSTART;TZID=America/Chicago:20260508T180000
DTEND;TZID=America/Chicago:20260508T200000
DTSTAMP:20260425T182258
CREATED:20260420T141218Z
LAST-MODIFIED:20260423T161018Z
UID:1300-1778263200-1778270400@www.theacoustic.com
SUMMARY:The Sliced Bread Jug Band
DESCRIPTION:A loose musical collective of approximately five jug band aficionados and/or free range geezers. Jug band music can be cantankerous and sometimes hilarious\, diversely armed with guitar\, uke\, the occasional banjo\, and a seemingly improbable array of homemade instruments. Including\, of course\, jugs.
URL:https://www.theacoustic.com/event/the-sliced-bread-jug-band/
ATTACH;FMTTYPE=image/png:https://www.theacoustic.com/wp-content/uploads/image.png
END:VEVENT
END:VCALENDAR