BEGIN:VCALENDAR
VERSION:2.0
PRODID:-//Acoustic Café - ECPv6.15.18//NONSGML v1.0//EN
CALSCALE:GREGORIAN
METHOD:PUBLISH
X-WR-CALNAME:Acoustic Café
X-ORIGINAL-URL:https://www.theacoustic.com
X-WR-CALDESC:Events for Acoustic Café
REFRESH-INTERVAL;VALUE=DURATION:PT1H
X-Robots-Tag:noindex
X-PUBLISHED-TTL:PT1H
BEGIN:VTIMEZONE
TZID:America/Chicago
BEGIN:DAYLIGHT
TZOFFSETFROM:-0600
TZOFFSETTO:-0500
TZNAME:CDT
DTSTART:20250309T080000
END:DAYLIGHT
BEGIN:STANDARD
TZOFFSETFROM:-0500
TZOFFSETTO:-0600
TZNAME:CST
DTSTART:20251102T070000
END:STANDARD
BEGIN:DAYLIGHT
TZOFFSETFROM:-0600
TZOFFSETTO:-0500
TZNAME:CDT
DTSTART:20260308T080000
END:DAYLIGHT
BEGIN:STANDARD
TZOFFSETFROM:-0500
TZOFFSETTO:-0600
TZNAME:CST
DTSTART:20261101T070000
END:STANDARD
BEGIN:DAYLIGHT
TZOFFSETFROM:-0600
TZOFFSETTO:-0500
TZNAME:CDT
DTSTART:20270314T080000
END:DAYLIGHT
BEGIN:STANDARD
TZOFFSETFROM:-0500
TZOFFSETTO:-0600
TZNAME:CST
DTSTART:20271107T070000
END:STANDARD
END:VTIMEZONE
BEGIN:VEVENT
DTSTART;TZID=America/Chicago:20260614T180000
DTEND;TZID=America/Chicago:20260614T200000
DTSTAMP:20260425T204807
CREATED:20260423T161649Z
LAST-MODIFIED:20260423T161951Z
UID:1317-1781460000-1781467200@www.theacoustic.com
SUMMARY:Leslie Vincent
DESCRIPTION:A prolific jazz songwriter and vocalist\, Leslie Vincent’s lyrical creativity\, rich alto tone\, and magnetic stage presence have made her a standout in the modern-day jazz scene. Her album of original jazz + pop\, Little Black Book\, was featured in The Star Tribune as one of the Top Albums of The Year. \nBeyond the stage\, Vincent is a committed arts advocate and collaborative artist. Her performances often embrace cross-genre interpretation and a sense of openness that invites audiences in\, creating an atmosphere that is both welcoming and deeply personal.
URL:https://www.theacoustic.com/event/leslie-vincent/
ATTACH;FMTTYPE=image/jpeg:https://www.theacoustic.com/wp-content/uploads/LeslieXVincent_TheXMojoXofXMusic-16b-scaled.jpg
END:VEVENT
END:VCALENDAR